BEGIN:VCALENDAR
VERSION:2.0
PRODID:-//hacksw/handcal//NONSGML v1.0//EN
BEGIN:VEVENT
SUMMARY:Reunion des Adherents (annule et remplace le 1er mai)
UID:57a34954-4441-49d1-b42c-7a00ad5d4181
DTSTART:20260428T153000Z
DTEND:20260428T220000Z
LOCATION:Localisation 3 rue de l'Epine, ancienne mairie, salle n°7 73160 Cognin
CATEGORIES:Administratif
STATUS:
URL;VALUE=URI:https://cvt.sportsregions.fr/evenements/2026/04/28/reunion-des-adherents-annule-et-remplace-le-1er-mai-2429927
END:VEVENT
END:VCALENDAR
