BEGIN:VCALENDAR
VERSION:2.0
PRODID:-//hacksw/handcal//NONSGML v1.0//EN
BEGIN:VEVENT
SUMMARY:Reunion des Adherents (deplacee au 28 avril)
UID:a6a09d6d-0c87-4c4a-a73d-90619395f982
DTSTART:20260501T153000Z
DTEND:20260501T170000Z
LOCATION:Localisation   
CATEGORIES:Administratif
STATUS:
URL;VALUE=URI:https://cvt.sportsregions.fr/evenements/2026/05/01/reunion-des-adherents-deplacee-au-28-avril-2373756
END:VEVENT
END:VCALENDAR
