BEGIN:VCALENDAR
VERSION:2.0
PRODID:-//hacksw/handcal//NONSGML v1.0//EN
BEGIN:VEVENT
SUMMARY:Journee-Charavines
UID:7d15faa0-f2c5-49cc-b25b-eadf44797bb5
DTSTART:20260530T070000Z
DTEND:20260530T160000Z
LOCATION:Localisation Charavines 38850 
CATEGORIES:Festif
STATUS:
DESCRIPTION:<p>Pic-nic au lac de Charavines. Depart soit de la mairie
 de Cognin, a 9h,  soit des Echelles, a 10h. Parcours a definir.</p>
URL;VALUE=URI:https://cvt.sportsregions.fr/evenements/2026/05/30/journee-charavines-2424570
END:VEVENT
END:VCALENDAR
